BEGIN:VCALENDAR
VERSION:2.0
PRODID:-//Межрегиональная общественная организация &quot;Педиатрическое респираторное общество&quot; - ECPv5.1.4//NONSGML v1.0//EN
CALSCALE:GREGORIAN
METHOD:PUBLISH
X-WR-CALNAME:Межрегиональная общественная организация &quot;Педиатрическое респираторное общество&quot;
X-ORIGINAL-URL:https://pulmodeti.ru
X-WR-CALDESC:Events for Межрегиональная общественная организация &quot;Педиатрическое респираторное общество&quot;
BEGIN:VTIMEZONE
TZID:Europe/Moscow
BEGIN:STANDARD
TZOFFSETFROM:+0300
TZOFFSETTO:+0300
TZNAME:MSK
DTSTART:20210101T000000
END:STANDARD
END:VTIMEZONE
BEGIN:VEVENT
DTSTART;TZID=Europe/Moscow:20210317T170000
DTEND;TZID=Europe/Moscow:20210317T180000
DTSTAMP:20260425T103737
CREATED:20210301T080253Z
LAST-MODIFIED:20210319T102307Z
UID:9047-1616000400-1616004000@pulmodeti.ru
SUMMARY:Диалог экспертов «Передовые новости по ведению детей с рецидивирующими  инфекциями»
DESCRIPTION:\n	\n		\n			Острые инфекции дыхательных путей в детском возрасте наблюдаются существенно чаще\, чем у взрослых\, что обусловлено незрелостью иммунной системы и эпидемическими причинами. Недостаточность иммунной защиты наиболее ярко проявляется после перенесенной острой инфекции\, что может явиться причиной формирования порочного круга\, который обусловливает рецидивы респираторных инфекций. \n17 марта 2021 года в 17:00 приглашаем вас на диалог экспертов проф. Н. А. Геппе и доц. Дронова И. А. “Передовые новости по ведению детей с рецидивирующими инфекциями”\, в ходе которого будут представлены современные принципы коррекции иммунных нарушений в педиатрической практике и принципы ведения пациентов детского возраста с рецидивирующими инфекциями дыхательных путей. \nМероприятие пройдет при поддержке компаний Sandoz \n\n		\n	\nЗарегистрироватьсяПрограмма мероприятияОтчет о мероприятии\n
URL:https://pulmodeti.ru/event/dialog-yekspertov-peredovye-novosti/
END:VEVENT
END:VCALENDAR